BEGIN:VCALENDAR
VERSION:2.0
PRODID:-//Platform Leren van Toetsen - ECPv6.15.20//NONSGML v1.0//EN
CALSCALE:GREGORIAN
METHOD:PUBLISH
X-WR-CALNAME:Platform Leren van Toetsen
X-ORIGINAL-URL:https://lerenvantoetsen.nl
X-WR-CALDESC:Evenementen voor Platform Leren van Toetsen
REFRESH-INTERVAL;VALUE=DURATION:PT1H
X-Robots-Tag:noindex
X-PUBLISHED-TTL:PT1H
BEGIN:VTIMEZONE
TZID:Europe/Amsterdam
BEGIN:DAYLIGHT
TZOFFSETFROM:+0100
TZOFFSETTO:+0200
TZNAME:CEST
DTSTART:20250330T010000
END:DAYLIGHT
BEGIN:STANDARD
TZOFFSETFROM:+0200
TZOFFSETTO:+0100
TZNAME:CET
DTSTART:20251026T010000
END:STANDARD
BEGIN:DAYLIGHT
TZOFFSETFROM:+0100
TZOFFSETTO:+0200
TZNAME:CEST
DTSTART:20260329T010000
END:DAYLIGHT
BEGIN:STANDARD
TZOFFSETFROM:+0200
TZOFFSETTO:+0100
TZNAME:CET
DTSTART:20261025T010000
END:STANDARD
BEGIN:DAYLIGHT
TZOFFSETFROM:+0100
TZOFFSETTO:+0200
TZNAME:CEST
DTSTART:20270328T010000
END:DAYLIGHT
BEGIN:STANDARD
TZOFFSETFROM:+0200
TZOFFSETTO:+0100
TZNAME:CET
DTSTART:20271031T010000
END:STANDARD
END:VTIMEZONE
BEGIN:VEVENT
DTSTART;VALUE=DATE:20260605
DTEND;VALUE=DATE:20260606
DTSTAMP:20260423T191801
CREATED:20251007T063742Z
LAST-MODIFIED:20260423T094050Z
UID:35511-1780617600-1780703999@lerenvantoetsen.nl
SUMMARY:Festival Leren van toetsen 2026
DESCRIPTION:Na 12\,5 jaar gaat Platform Leren van toetsen stoppen. De website blijft beschikbaar\, maar we organiseren geen nieuwe leesclubs\, webinars of festivals meer. \nVoor deze laatste editie van het festival zijn we te gast op de plek waar ook het eerste symposium werd gehouden: bij Hogeschool Rotterdam! Locatie Rochussenstraat opent haar deuren voor een dag vol inspiratie en uitwisseling. Het thema van dit jaar is ‘Destination Unknown’ \n“In een tijd waarin de veranderingen sneller gaan dan we kunnen bijbenen\, hebben we in het onderwijs onverminderd de opdracht om onze studenten voor te bereiden op het werkveld van morgen. En al kunnen we slechts raden hoe de wereld er dan uitziet\, toch bouwen we allemaal aan het onderwijslandschap van de toekomst. Hoogste tijd dus\, om eens van gedachten te wisselen. Want hoe doen jullie dat eigenlijk? “ \nNaast het overkoepelende thema ‘leren van toetsen’\, besteden we deze editie speciale aandacht aan: \n* feedbackgeletterdheid\n* toetsen in innovatief onderwijs\n* leren van toetsen met AI \nPer thema zijn er verschillende keynotes en workshops waarin je actief aan de slag gaat. Daarnaast zijn er feedbacksessies waarin nieuwe werkwijzen en materialen worden gepitcht en je wordt uitgenodigd om met de sprekers mee te denken. \nWe starten om 10:00u en het programma loopt tot 17:00u. \nAan het einde van de dag\, vanaf 15.30 uur\, is er ruimte om gezellig na te kletsen met een hapje en drankje. Vanaf 16.00 uur heffen we het glas op 12\,5 jaar Platform Leren van toetsen en – nu we er niet meer vanuit kunnen gaan dat we elkaar treffen op de 1e vrijdag in juni – ook onze eigen ‘destination unknown’… \nIk wil me aanmelden!
URL:https://lerenvantoetsen.nl/agenda/festival-leren-van-toetsen-2025-2/
CATEGORIES:uitgelicht
ATTACH;FMTTYPE=image/png:https://lerenvantoetsen.nl/wp-content/uploads/2025/10/linkedin-post-v2-1.png
ORGANIZER;CN="Platform Leren van toetsen":MAILTO:info@lerenvantoetsen.nl
END:VEVENT
END:VCALENDAR